BEGIN:VCALENDAR
VERSION:2.0
PRODID:-//Word FM - ECPv6.15.20//NONSGML v1.0//EN
CALSCALE:GREGORIAN
METHOD:PUBLISH
X-WR-CALNAME:Word FM
X-ORIGINAL-URL:https://wordfm.org
X-WR-CALDESC:Events for Word FM
REFRESH-INTERVAL;VALUE=DURATION:PT1H
X-Robots-Tag:noindex
X-PUBLISHED-TTL:PT1H
BEGIN:VTIMEZONE
TZID:America/New_York
BEGIN:DAYLIGHT
TZOFFSETFROM:-0500
TZOFFSETTO:-0400
TZNAME:EDT
DTSTART:20250309T070000
END:DAYLIGHT
BEGIN:STANDARD
TZOFFSETFROM:-0400
TZOFFSETTO:-0500
TZNAME:EST
DTSTART:20251102T060000
END:STANDARD
BEGIN:DAYLIGHT
TZOFFSETFROM:-0500
TZOFFSETTO:-0400
TZNAME:EDT
DTSTART:20260308T070000
END:DAYLIGHT
BEGIN:STANDARD
TZOFFSETFROM:-0400
TZOFFSETTO:-0500
TZNAME:EST
DTSTART:20261101T060000
END:STANDARD
BEGIN:DAYLIGHT
TZOFFSETFROM:-0500
TZOFFSETTO:-0400
TZNAME:EDT
DTSTART:20270314T070000
END:DAYLIGHT
BEGIN:STANDARD
TZOFFSETFROM:-0400
TZOFFSETTO:-0500
TZNAME:EST
DTSTART:20271107T060000
END:STANDARD
END:VTIMEZONE
BEGIN:VEVENT
DTSTART;TZID=America/New_York:20260502T090000
DTEND;TZID=America/New_York:20260502T130000
DTSTAMP:20260425T233901
CREATED:20260420T145821Z
LAST-MODIFIED:20260420T150052Z
UID:10248-1777712400-1777726800@wordfm.org
SUMMARY:Free Clothing Boutique
DESCRIPTION:FREE!! FREE! FREE! Local friends\, need some motivation for spring cleaning? Or maybe you need to update your wardrobe. Our church\, East Swamp Church\, is holding their annual Free Clothing Boutique\, where we open our doors to the Quakertown community on May 2nd from 9:00-1:00. Come and shop clothing\, shoes and accessories for infants through adults. Last year over 200 people shopped and were blessed to leave with new-to-them clothes. If you would like to donate any clothing\, please drop off at the church youth center during the drop-off times listed below. Please note: items are not intended for resale. \nTues.\, April 28th – 5:00-8:00\nWed.\, April 29th – 12:00 – 5:00\nThurs.\, April 30th – 9:00 – 8:00
URL:https://wordfm.org/event/free-clothing-boutique/
LOCATION:East Swamp Church\, 2405 East Swamp Road\, Quakertown\, PA\, 18951\, United States
END:VEVENT
END:VCALENDAR