BEGIN:VCALENDAR
VERSION:2.0
PRODID:-//Word FM - ECPv6.15.20//NONSGML v1.0//EN
CALSCALE:GREGORIAN
METHOD:PUBLISH
X-WR-CALNAME:Word FM
X-ORIGINAL-URL:https://wordfm.org
X-WR-CALDESC:Events for Word FM
REFRESH-INTERVAL;VALUE=DURATION:PT1H
X-Robots-Tag:noindex
X-PUBLISHED-TTL:PT1H
BEGIN:VTIMEZONE
TZID:America/New_York
BEGIN:DAYLIGHT
TZOFFSETFROM:-0500
TZOFFSETTO:-0400
TZNAME:EDT
DTSTART:20250309T070000
END:DAYLIGHT
BEGIN:STANDARD
TZOFFSETFROM:-0400
TZOFFSETTO:-0500
TZNAME:EST
DTSTART:20251102T060000
END:STANDARD
BEGIN:DAYLIGHT
TZOFFSETFROM:-0500
TZOFFSETTO:-0400
TZNAME:EDT
DTSTART:20260308T070000
END:DAYLIGHT
BEGIN:STANDARD
TZOFFSETFROM:-0400
TZOFFSETTO:-0500
TZNAME:EST
DTSTART:20261101T060000
END:STANDARD
BEGIN:DAYLIGHT
TZOFFSETFROM:-0500
TZOFFSETTO:-0400
TZNAME:EDT
DTSTART:20270314T070000
END:DAYLIGHT
BEGIN:STANDARD
TZOFFSETFROM:-0400
TZOFFSETTO:-0500
TZNAME:EST
DTSTART:20271107T060000
END:STANDARD
END:VTIMEZONE
BEGIN:VEVENT
DTSTART;VALUE=DATE:20260501
DTEND;VALUE=DATE:20260502
DTSTAMP:20260425T234040
CREATED:20260223T155105Z
LAST-MODIFIED:20260223T155105Z
UID:8095-1777593600-1777679999@wordfm.org
SUMMARY:Golf Outing
DESCRIPTION:Take a Swing Out of Hunger\nOur Golf Outing is a day for golf players to get together to participate in a fun golf tournament and enjoy a nice meal. This year there will be 2 shotgun starts at 7:30 AM & 1:30 PM. \nYour involvement in this event will directly impact the lives of individuals and families struggling with hunger and make a real difference in addressing this critical issue in our communities. \nDate: May 1\, 2026\nShotgun Start Times: 7:30 AM and 1:30 PM\nLocation: Iron Valley Golf Club\n201 Iron Valley Drive\, Lebanon\, PA 17042 \nIndividual Golfer: $125.00\nFoursome: $500.00
URL:https://wordfm.org/event/golf-outing/
LOCATION:Iron Valley Golf Club\, 201 Iron Valley Drive\, Lebanon\, PA\, 17042\, United States
ATTACH;FMTTYPE=image/jpeg:https://wordfm.org/wp-content/uploads/2026/02/Golf.jpg
ORGANIZER;CN="Blessings of Hope":MAILTO:nicole67@blessingsofhope.com
END:VEVENT
END:VCALENDAR